BEGIN:VCALENDAR
VERSION:2.0
PRODID:-//Economic Development - ECPv6.15.12.2//NONSGML v1.0//EN
CALSCALE:GREGORIAN
METHOD:PUBLISH
X-ORIGINAL-URL:https://carrollbiz.org
X-WR-CALDESC:Events for Economic Development
REFRESH-INTERVAL;VALUE=DURATION:PT1H
X-Robots-Tag:noindex
X-PUBLISHED-TTL:PT1H
BEGIN:VTIMEZONE
TZID:America/New_York
BEGIN:DAYLIGHT
TZOFFSETFROM:-0500
TZOFFSETTO:-0400
TZNAME:EDT
DTSTART:20250309T070000
END:DAYLIGHT
BEGIN:STANDARD
TZOFFSETFROM:-0400
TZOFFSETTO:-0500
TZNAME:EST
DTSTART:20251102T060000
END:STANDARD
BEGIN:DAYLIGHT
TZOFFSETFROM:-0500
TZOFFSETTO:-0400
TZNAME:EDT
DTSTART:20260308T070000
END:DAYLIGHT
BEGIN:STANDARD
TZOFFSETFROM:-0400
TZOFFSETTO:-0500
TZNAME:EST
DTSTART:20261101T060000
END:STANDARD
BEGIN:DAYLIGHT
TZOFFSETFROM:-0500
TZOFFSETTO:-0400
TZNAME:EDT
DTSTART:20270314T070000
END:DAYLIGHT
BEGIN:STANDARD
TZOFFSETFROM:-0400
TZOFFSETTO:-0500
TZNAME:EST
DTSTART:20271107T060000
END:STANDARD
END:VTIMEZONE
BEGIN:VEVENT
DTSTART;TZID=America/New_York:20260428T130000
DTEND;TZID=America/New_York:20260428T140000
DTSTAMP:20260424T104745
CREATED:20260218T163513Z
LAST-MODIFIED:20260218T163513Z
UID:10003668-1777381200-1777384800@carrollbiz.org
SUMMARY:MD SBDC - Credit-Building Strategies for Business Owners
DESCRIPTION:This session educates business owners on compliant\, practical strategies for building and strengthening credit profiles. Topics include utilization management\, credit mix\, authorized user considerations\, and establishing consistent positive payment history to support long-term financial health. Presenter\, Brianna Wenrich\, Kaydem Credit \nThis training is the second in a 5-part series on Credit Repair. All sessions compliment each other but are offered separately. \nThis series includes:\n-How to Read and Understand a Credit Report-March 25\, 1pm https://mdsbdc.ecenterdirect.com/events/18488 \n-Credit-Building Strategies for Business Owners-April 28\, 1pm https://mdsbdc.ecenterdirect.com/events/18489 \n-How Inquiries\, Late Payments\, and Utilization Affect Funding-May 11\, 11am https://mdsbdc.ecenterdirect.com/events/18490 \n-When to Seek Professional Credit Restoration Support-June 4\, 1pm https://mdsbdc.ecenterdirect.com/events/18491 \n-What to Expect from a Compliant Credit Restoration Service-July 8\, 1pm https://mdsbdc.ecenterdirect.com/events/18492 \nPlease use the above links to register for one or all of the sessions.
URL:https://carrollbiz.org/event/md-sbdc-credit-building-strategies-for-business-owners/
LOCATION:Virtual\, MD\, United States
ATTACH;FMTTYPE=image/png:https://carrollbiz.org/wp-content/uploads/2018/03/SBDC_Maryland.png
ORGANIZER;CN="America's Small Business Development Center (SBDC)":MAILTO:dpeyton@carrollcc.edu
END:VEVENT
BEGIN:VEVENT
DTSTART;TZID=America/New_York:20260511T110000
DTEND;TZID=America/New_York:20260511T120000
DTSTAMP:20260424T104745
CREATED:20260218T163724Z
LAST-MODIFIED:20260218T163724Z
UID:10003669-1778497200-1778500800@carrollbiz.org
SUMMARY:MD SBDC - How Inquiries\, Late Payments\, and Utilization Affect Funding
DESCRIPTION:Participants will gain a clear understanding of how common credit behaviors—such as hard inquiries\, late payments\, and high utilization—directly influence funding eligibility\, approval outcomes\, and interest rates. The training connects everyday credit decisions to real-world financing impacts. Presenter\, Brianna Wenrich; Kaydem Credit \nThis training is the third in a 5-part series on Credit Repair. All sessions compliment each other but are offered separately. \nThis series includes:\n-How to Read and Understand a Credit Report-March 25\, 1pm https://mdsbdc.ecenterdirect.com/events/18488 \n-Credit-Building Strategies for Business Owners-April 28\, 1pm https://mdsbdc.ecenterdirect.com/events/18489 \n-How Inquiries\, Late Payments\, and Utilization Affect Funding-May 11\, 11am https://mdsbdc.ecenterdirect.com/events/18490 \n-When to Seek Professional Credit Restoration Support-June 4\, 1pm https://mdsbdc.ecenterdirect.com/events/18491 \n-What to Expect from a Compliant Credit Restoration Service-July 8\, 1pm https://mdsbdc.ecenterdirect.com/events/18492 \nPlease use the above links to register for one or all of the sessions.
URL:https://carrollbiz.org/event/md-sbdc-how-inquiries-late-payments-and-utilization-affect-funding/
LOCATION:Virtual\, MD\, United States
ATTACH;FMTTYPE=image/png:https://carrollbiz.org/wp-content/uploads/2018/03/SBDC_Maryland.png
ORGANIZER;CN="America's Small Business Development Center (SBDC)":MAILTO:dpeyton@carrollcc.edu
END:VEVENT
BEGIN:VEVENT
DTSTART;TZID=America/New_York:20260604T130000
DTEND;TZID=America/New_York:20260604T140000
DTSTAMP:20260424T104745
CREATED:20260218T163854Z
LAST-MODIFIED:20260218T163854Z
UID:10003670-1780578000-1780581600@carrollbiz.org
SUMMARY:MD SBDC - When to Seek Professional Credit Restoration Support
DESCRIPTION:This training helps business owners distinguish between credit improvements that can be managed independently and situations that may require licensed\, compliant credit restoration assistance. Attendees will learn how to assess their credit challenges and make informed\, responsible decisions about next steps. Presenter\, Brianna Wenrich; Kaydem Credit \nThis training is the fourth in a 5-part series on Credit Repair. All sessions compliment each other but are offered separately. \nThis series includes:\n-How to Read and Understand a Credit Report-March 25\, 1pm https://mdsbdc.ecenterdirect.com/events/18488 \n-Credit-Building Strategies for Business Owners-April 28\, 1pm https://mdsbdc.ecenterdirect.com/events/18489 \n-How Inquiries\, Late Payments\, and Utilization Affect Funding-May 11\, 11am https://mdsbdc.ecenterdirect.com/events/18490 \n-When to Seek Professional Credit Restoration Support-June 4\, 1pm https://mdsbdc.ecenterdirect.com/events/18491 \n-What to Expect from a Compliant Credit Restoration Service-July 8\, 1pm https://mdsbdc.ecenterdirect.com/events/18492 \nPlease use the above links to register for one or all of the sessions.
URL:https://carrollbiz.org/event/md-sbdc-when-to-seek-professional-credit-restoration-support/
LOCATION:Virtual\, MD\, United States
ATTACH;FMTTYPE=image/png:https://carrollbiz.org/wp-content/uploads/2018/03/SBDC_Maryland.png
ORGANIZER;CN="America's Small Business Development Center (SBDC)":MAILTO:dpeyton@carrollcc.edu
END:VEVENT
BEGIN:VEVENT
DTSTART;TZID=America/New_York:20260708T130000
DTEND;TZID=America/New_York:20260708T140000
DTSTAMP:20260424T104745
CREATED:20260218T164006Z
LAST-MODIFIED:20260218T164006Z
UID:10003671-1783515600-1783519200@carrollbiz.org
SUMMARY:MD SBDC - What to Expect from a Compliant Credit Restoration Service
DESCRIPTION:This session provides an educational overview of what legitimate\, compliant credit restoration services entail. Participants will learn about consumer protections\, realistic timelines\, and ethical practices so they can confidently evaluate professional support options if needed. Presenter\, Brianna Wenrich; Kaydem Credit \nThis training is the fifth in a 5-part series on Credit Repair. All sessions compliment each other but are offered separately. \nThis series includes:\n-How to Read and Understand a Credit Report-March 25\, 1pm https://mdsbdc.ecenterdirect.com/events/18488 \n-Credit-Building Strategies for Business Owners-April 28\, 1pm https://mdsbdc.ecenterdirect.com/events/18489 \n-How Inquiries\, Late Payments\, and Utilization Affect Funding-May 11\, 11am https://mdsbdc.ecenterdirect.com/events/18490 \n-When to Seek Professional Credit Restoration Support-June 4\, 1pm https://mdsbdc.ecenterdirect.com/events/18491 \n-What to Expect from a Compliant Credit Restoration Service-July 8\, 1pm https://mdsbdc.ecenterdirect.com/events/18492 \nPlease use the above links to register for one or all of the sessions.
URL:https://carrollbiz.org/event/md-sbdc-what-to-expect-from-a-compliant-credit-restoration-service/
LOCATION:Virtual\, MD\, United States
ATTACH;FMTTYPE=image/png:https://carrollbiz.org/wp-content/uploads/2018/03/SBDC_Maryland.png
ORGANIZER;CN="America's Small Business Development Center (SBDC)":MAILTO:dpeyton@carrollcc.edu
END:VEVENT
END:VCALENDAR